BEGIN:VCALENDAR
VERSION:2.0
PRODID:-//WB Parks - ECPv6.15.18//NONSGML v1.0//EN
CALSCALE:GREGORIAN
METHOD:PUBLISH
X-ORIGINAL-URL:https://wbparks.org
X-WR-CALDESC:Events for WB Parks
REFRESH-INTERVAL;VALUE=DURATION:PT1H
X-Robots-Tag:noindex
X-PUBLISHED-TTL:PT1H
BEGIN:VTIMEZONE
TZID:America/New_York
BEGIN:DAYLIGHT
TZOFFSETFROM:-0500
TZOFFSETTO:-0400
TZNAME:EDT
DTSTART:20250309T070000
END:DAYLIGHT
BEGIN:STANDARD
TZOFFSETFROM:-0400
TZOFFSETTO:-0500
TZNAME:EST
DTSTART:20251102T060000
END:STANDARD
BEGIN:DAYLIGHT
TZOFFSETFROM:-0500
TZOFFSETTO:-0400
TZNAME:EDT
DTSTART:20260308T070000
END:DAYLIGHT
BEGIN:STANDARD
TZOFFSETFROM:-0400
TZOFFSETTO:-0500
TZNAME:EST
DTSTART:20261101T060000
END:STANDARD
BEGIN:DAYLIGHT
TZOFFSETFROM:-0500
TZOFFSETTO:-0400
TZNAME:EDT
DTSTART:20270314T070000
END:DAYLIGHT
BEGIN:STANDARD
TZOFFSETFROM:-0400
TZOFFSETTO:-0500
TZNAME:EST
DTSTART:20271107T060000
END:STANDARD
END:VTIMEZONE
BEGIN:VEVENT
DTSTART;TZID=America/New_York:20260207T180000
DTEND;TZID=America/New_York:20260207T203000
DTSTAMP:20260425T085636
CREATED:20230120T182835Z
LAST-MODIFIED:20260106T140314Z
UID:10000434-1770487200-1770496200@wbparks.org
SUMMARY:Daddy Daughter Dinner Dance
DESCRIPTION:
URL:https://wbparks.org/event/daddydaughter/
LOCATION:Temple Israel\, 5725 Walnut Lake Rd\, West Bloomfield Township\, MI\, 48323
CATEGORIES:Family
ATTACH;FMTTYPE=image/jpeg:https://wbparks.org/wp-content/uploads/2023/01/DDD-25-10.jpg
END:VEVENT
BEGIN:VEVENT
DTSTART;TZID=America/New_York:20260221T130000
DTEND;TZID=America/New_York:20260221T160000
DTSTAMP:20260425T085636
CREATED:20231116T210308Z
LAST-MODIFIED:20260209T154954Z
UID:10000229-1771678800-1771689600@wbparks.org
SUMMARY:Black Expo
DESCRIPTION:
URL:https://wbparks.org/event/blackexpo/
LOCATION:Orchard Mall\, 6445 Orchard Lake Rd\,\, West Bloomfield Township\, 48322\, United States
CATEGORIES:Family
ATTACH;FMTTYPE=image/jpeg:https://wbparks.org/wp-content/uploads/2023/11/Black-Expo-2025-2.jpg
END:VEVENT
BEGIN:VEVENT
DTSTART;TZID=America/New_York:20260228T130000
DTEND;TZID=America/New_York:20260228T143000
DTSTAMP:20260425T085636
CREATED:20231120T131909Z
LAST-MODIFIED:20251117T132029Z
UID:10000236-1772283600-1772289000@wbparks.org
SUMMARY:Snowshoe Family Hike
DESCRIPTION:
URL:https://wbparks.org/event/family-snowshoe/
LOCATION:Drake Sports Park\, 6801 Drake Rd\, West Bloomfield Township\, 48322\, United States
CATEGORIES:Family,Adult
ATTACH;FMTTYPE=image/jpeg:https://wbparks.org/wp-content/uploads/2023/11/IMG_2435.jpg
END:VEVENT
END:VCALENDAR